BEGIN:VCALENDAR
VERSION:2.0
PRODID:-//Schule an der Delmestra&szlig;e Bremen - ECPv6.15.20//NONSGML v1.0//EN
CALSCALE:GREGORIAN
METHOD:PUBLISH
X-WR-CALNAME:Schule an der Delmestra&szlig;e Bremen
X-ORIGINAL-URL:https://xn--schule-delmestrae-lob.de
X-WR-CALDESC:Veranstaltungen für Schule an der Delmestra&szlig;e Bremen
REFRESH-INTERVAL;VALUE=DURATION:PT1H
X-Robots-Tag:noindex
X-PUBLISHED-TTL:PT1H
BEGIN:VTIMEZONE
TZID:Europe/Moscow
BEGIN:STANDARD
TZOFFSETFROM:+0300
TZOFFSETTO:+0300
TZNAME:MSK
DTSTART:20250101T000000
END:STANDARD
END:VTIMEZONE
BEGIN:VEVENT
DTSTART;TZID=Europe/Moscow:20260525T000000
DTEND;TZID=Europe/Moscow:20260525T235900
DTSTAMP:20260421T082954
CREATED:20260123T142736Z
LAST-MODIFIED:20260205T080540Z
UID:861-1779667200-1779753540@xn--schule-delmestrae-lob.de
SUMMARY:Pfingstferien
DESCRIPTION: 
URL:https://xn--schule-delmestrae-lob.de/event/pfingstferien-2/
CATEGORIES:Ferien
END:VEVENT
END:VCALENDAR