BEGIN:VCALENDAR
VERSION:2.0
PRODID:-//Schule an der Delmestra&szlig;e Bremen - ECPv6.15.20//NONSGML v1.0//EN
CALSCALE:GREGORIAN
METHOD:PUBLISH
X-ORIGINAL-URL:https://xn--schule-delmestrae-lob.de
X-WR-CALDESC:Veranstaltungen für Schule an der Delmestra&szlig;e Bremen
REFRESH-INTERVAL;VALUE=DURATION:PT1H
X-Robots-Tag:noindex
X-PUBLISHED-TTL:PT1H
BEGIN:VTIMEZONE
TZID:UTC
BEGIN:STANDARD
TZOFFSETFROM:+0000
TZOFFSETTO:+0000
TZNAME:UTC
DTSTART:20250101T000000
END:STANDARD
END:VTIMEZONE
BEGIN:VEVENT
DTSTART;TZID=UTC:20260313T083000
DTEND;TZID=UTC:20260313T113000
DTSTAMP:20260421T085317
CREATED:20260114T113912Z
LAST-MODIFIED:20260123T142443Z
UID:671-1773390600-1773401400@xn--schule-delmestrae-lob.de
SUMMARY:Ausflug ins Kino
DESCRIPTION:An diesem Tag fahren alle Klassen ins Kino um entweder „Checker-Tobi“ oder „Pumuckl“ zu schauen.
URL:https://xn--schule-delmestrae-lob.de/event/ausflug-ins-kino/
CATEGORIES:Ausflug,Schulleben
END:VEVENT
BEGIN:VEVENT
DTSTART;TZID=UTC:20260313T130000
DTEND;TZID=UTC:20260313T150000
DTSTAMP:20260421T085317
CREATED:20260116T091554Z
LAST-MODIFIED:20260123T142436Z
UID:720-1773406800-1773414000@xn--schule-delmestrae-lob.de
SUMMARY:Bremen räumt auf
DESCRIPTION:Wir beteiligen uns an der diesjährigen „Mission Orange„. \n 
URL:https://xn--schule-delmestrae-lob.de/event/bremen-raeumt-auf/
CATEGORIES:Schulleben
END:VEVENT
END:VCALENDAR